BEGIN:VCALENDAR
VERSION:2.0
PRODID:-//Bayview Leaside BIA | Toronto - ECPv6.15.20//NONSGML v1.0//EN
CALSCALE:GREGORIAN
METHOD:PUBLISH
X-WR-CALNAME:Bayview Leaside BIA | Toronto
X-ORIGINAL-URL:https://bayviewleasidebia.com
X-WR-CALDESC:Events for Bayview Leaside BIA | Toronto
REFRESH-INTERVAL;VALUE=DURATION:PT1H
X-Robots-Tag:noindex
X-PUBLISHED-TTL:PT1H
BEGIN:VTIMEZONE
TZID:America/Toronto
BEGIN:DAYLIGHT
TZOFFSETFROM:-0500
TZOFFSETTO:-0400
TZNAME:EDT
DTSTART:20230312T070000
END:DAYLIGHT
BEGIN:STANDARD
TZOFFSETFROM:-0400
TZOFFSETTO:-0500
TZNAME:EST
DTSTART:20231105T060000
END:STANDARD
BEGIN:DAYLIGHT
TZOFFSETFROM:-0500
TZOFFSETTO:-0400
TZNAME:EDT
DTSTART:20240310T070000
END:DAYLIGHT
BEGIN:STANDARD
TZOFFSETFROM:-0400
TZOFFSETTO:-0500
TZNAME:EST
DTSTART:20241103T060000
END:STANDARD
BEGIN:DAYLIGHT
TZOFFSETFROM:-0500
TZOFFSETTO:-0400
TZNAME:EDT
DTSTART:20250309T070000
END:DAYLIGHT
BEGIN:STANDARD
TZOFFSETFROM:-0400
TZOFFSETTO:-0500
TZNAME:EST
DTSTART:20251102T060000
END:STANDARD
END:VTIMEZONE
BEGIN:VEVENT
DTSTART;TZID=America/Toronto:20240615T100000
DTEND;TZID=America/Toronto:20240615T170000
DTSTAMP:20260424T140320
CREATED:20240303T191639Z
LAST-MODIFIED:20240429T170444Z
UID:10000079-1718445600-1718470800@bayviewleasidebia.com
SUMMARY:Sidewalk Sensation *SAVE THE DATE*
DESCRIPTION:SAVE THE DATE for our annual Sidewalk Sensation event happening on Saturday\, June 15th! Stay tuned for more details and make sure to follow us on social media at @BayviewLeasideBIA!
URL:https://bayviewleasidebia.com/event/sidewalk-sensation-save-the-date/
LOCATION:Bayview Leaside BIA\, 1540 Bayview Avenue\, Toronto\, Ontario\, M4G3B6\, Canada
CATEGORIES:Community Events
ATTACH;FMTTYPE=image/png:https://bayviewleasidebia.com/wp-content/uploads/2024/03/Events-2024-Bayview-Leaside-BIA-Save-the-date-Instagram-post.png
GEO:43.704845978659;-79.374953702317
X-APPLE-STRUCTURED-LOCATION;VALUE=URI;X-ADDRESS=Bayview Leaside BIA 1540 Bayview Avenue Toronto Ontario M4G3B6 Canada;X-APPLE-RADIUS=500;X-TITLE=1540 Bayview Avenue:geo:-79.374953702317,43.704845978659
END:VEVENT
BEGIN:VEVENT
DTSTART;TZID=America/Toronto:20240615T110000
DTEND;TZID=America/Toronto:20240615T180000
DTSTAMP:20260424T140320
CREATED:20240614T022927Z
LAST-MODIFIED:20240614T022927Z
UID:10000099-1718449200-1718474400@bayviewleasidebia.com
SUMMARY:Sample the Goods @ The Sweet Potato
DESCRIPTION:Drop by The Sweet Potato to sample some delicious products!\n11am – 3pm – Get a taste of Tartistry Butter Tarts and Acropolis Organics Olive Oils & Vinegar\n2pm – 6pm – Sample our house-made macaroni salad
URL:https://bayviewleasidebia.com/event/sample-the-goods-the-sweet-potato/
LOCATION:The Sweet Potato\, 1678 Bayview Ave
ORGANIZER;CN="The Sweet Potato":MAILTO:marketing@thesweetpotato.ca
END:VEVENT
END:VCALENDAR