BEGIN:VCALENDAR
VERSION:2.0
PRODID:-//Bayview Leaside BIA | Toronto - ECPv6.15.20//NONSGML v1.0//EN
CALSCALE:GREGORIAN
METHOD:PUBLISH
X-WR-CALNAME:Bayview Leaside BIA | Toronto
X-ORIGINAL-URL:https://bayviewleasidebia.com
X-WR-CALDESC:Events for Bayview Leaside BIA | Toronto
REFRESH-INTERVAL;VALUE=DURATION:PT1H
X-Robots-Tag:noindex
X-PUBLISHED-TTL:PT1H
BEGIN:VTIMEZONE
TZID:America/Toronto
BEGIN:DAYLIGHT
TZOFFSETFROM:-0500
TZOFFSETTO:-0400
TZNAME:EDT
DTSTART:20230312T070000
END:DAYLIGHT
BEGIN:STANDARD
TZOFFSETFROM:-0400
TZOFFSETTO:-0500
TZNAME:EST
DTSTART:20231105T060000
END:STANDARD
BEGIN:DAYLIGHT
TZOFFSETFROM:-0500
TZOFFSETTO:-0400
TZNAME:EDT
DTSTART:20240310T070000
END:DAYLIGHT
BEGIN:STANDARD
TZOFFSETFROM:-0400
TZOFFSETTO:-0500
TZNAME:EST
DTSTART:20241103T060000
END:STANDARD
BEGIN:DAYLIGHT
TZOFFSETFROM:-0500
TZOFFSETTO:-0400
TZNAME:EDT
DTSTART:20250309T070000
END:DAYLIGHT
BEGIN:STANDARD
TZOFFSETFROM:-0400
TZOFFSETTO:-0500
TZNAME:EST
DTSTART:20251102T060000
END:STANDARD
END:VTIMEZONE
BEGIN:VEVENT
DTSTART;TZID=America/Toronto:20240618T100000
DTEND;TZID=America/Toronto:20240618T110000
DTSTAMP:20260424T140327
CREATED:20240505T174652Z
LAST-MODIFIED:20240507T131143Z
UID:10000090-1718704800-1718708400@bayviewleasidebia.com
SUMMARY:Hot Mom Walk - Bayview Schedule: Tuesdays at 11AM
DESCRIPTION:What is Hot Mom Walk?\nDid you know new moms can typically experience the feeling of isolation and a huge identity shift when they go on maternity leave? A recent study found 80 percent of women at three months postpartum say they feel more alone than ever. \nDesigned to help mitigate feeling isolated and alone\, Hot Mom aims to help moms build community\, decompress\, and socialize while participating in one of the most accessible activities – walking. \nIn collaboration with West Coast Kids\, CYBEX will host free Hot Mom Walks on a weekly basis from the month of April to October (excluding July \, August for Summer Break). This will provide a hub for new moms to meet will participating in wellness walks led by our HMW leaders Alex Trimble (@alex_trimble)\, Chloe Alleyne (@thesweatmovement)\, and Teja Federico (@thebarreteja) \nMonthly Giveaway Prize\nThose who sign-up and attend a Hot Mom Walk will have the chance to WIN a CYBEX stroller of their choosing! Winners will be annouced at the end of each month. Giveaway contest rules are in the Q&A Section below. \nHot Mom Walk – Bayview Schedule: Tuesdays at 11AM\nSign up for the following Hot Mom Walks near Bayview West Coast Kids. \n\nApril 2\, 9\, 16\, 30\nMay 7\, 14\, 21\, (Thursday) 31\nJune 4\, 11\, 18\, 25\n\n\n\nhttps://www.eventbrite.ca/e/cybex-hot-mom-walk-at-west-coast-kids-bayview-tickets-858983180817?aff=oddtdtcreator
URL:https://bayviewleasidebia.com/event/hot-mom-walk-bayview-schedule-tuesdays-at-10am/2024-06-18/
LOCATION:West Coast Kids\, 1646 Bayview Avenue\, Toronto\, Ontario\, M4S 1S8\, Canada
CATEGORIES:Community Events
END:VEVENT
BEGIN:VEVENT
DTSTART;TZID=America/Toronto:20240618T110000
DTEND;TZID=America/Toronto:20240618T120000
DTSTAMP:20260424T140327
CREATED:20240529T014609Z
LAST-MODIFIED:20240529T014609Z
UID:10000097-1718708400-1718712000@bayviewleasidebia.com
SUMMARY:Hot Mom Walk - Bayview Schedule: Tuesdays at 11AM
DESCRIPTION:What is Hot Mom Walk?\nDid you know new moms can typically experience the feeling of isolation and a huge identity shift when they go on maternity leave? A recent study found 80 percent of women at three months postpartum say they feel more alone than ever. \nDesigned to help mitigate feeling isolated and alone\, Hot Mom aims to help moms build community\, decompress\, and socialize while participating in one of the most accessible activities – walking. \nIn collaboration with West Coast Kids\, CYBEX will host free Hot Mom Walks on a weekly basis from the month of April to October (excluding July \, August for Summer Break). This will provide a hub for new moms to meet will participating in wellness walks led by our HMW leaders Alex Trimble (@alex_trimble)\, Chloe Alleyne (@thesweatmovement)\, and Teja Federico (@thebarreteja) \nMonthly Giveaway Prize\nThose who sign-up and attend a Hot Mom Walk will have the chance to WIN a CYBEX stroller of their choosing! Winners will be annouced at the end of each month. Giveaway contest rules are in the Q&A Section below. \nHot Mom Walk – Bayview Schedule: Tuesdays at 11AM\nSign up for the following Hot Mom Walks near Bayview West Coast Kids. \n\nApril 2\, 9\, 16\, 30\nMay 7\, 14\, 21\, (Thursday) 31\nJune 4\, 11\, 18\, 25\n\n\n\nhttps://www.eventbrite.ca/e/cybex-hot-mom-walk-at-west-coast-kids-bayview-tickets-858983180817?aff=oddtdtcreator
URL:https://bayviewleasidebia.com/event/hot-mom-walk-bayview-schedule-tuesdays-at-11am-4/2024-06-18/
LOCATION:West Coast Kids\, 1646 Bayview Avenue\, Toronto\, Ontario\, M4S 1S8\, Canada
CATEGORIES:Community Events
END:VEVENT
END:VCALENDAR