BEGIN:VCALENDAR
VERSION:2.0
PRODID:-//Bayview Leaside BIA | Toronto - ECPv6.15.20//NONSGML v1.0//EN
CALSCALE:GREGORIAN
METHOD:PUBLISH
X-ORIGINAL-URL:https://bayviewleasidebia.com
X-WR-CALDESC:Events for Bayview Leaside BIA | Toronto
REFRESH-INTERVAL;VALUE=DURATION:PT1H
X-Robots-Tag:noindex
X-PUBLISHED-TTL:PT1H
BEGIN:VTIMEZONE
TZID:America/Toronto
BEGIN:DAYLIGHT
TZOFFSETFROM:-0500
TZOFFSETTO:-0400
TZNAME:EDT
DTSTART:20230312T070000
END:DAYLIGHT
BEGIN:STANDARD
TZOFFSETFROM:-0400
TZOFFSETTO:-0500
TZNAME:EST
DTSTART:20231105T060000
END:STANDARD
BEGIN:DAYLIGHT
TZOFFSETFROM:-0500
TZOFFSETTO:-0400
TZNAME:EDT
DTSTART:20240310T070000
END:DAYLIGHT
BEGIN:STANDARD
TZOFFSETFROM:-0400
TZOFFSETTO:-0500
TZNAME:EST
DTSTART:20241103T060000
END:STANDARD
BEGIN:DAYLIGHT
TZOFFSETFROM:-0500
TZOFFSETTO:-0400
TZNAME:EDT
DTSTART:20250309T070000
END:DAYLIGHT
BEGIN:STANDARD
TZOFFSETFROM:-0400
TZOFFSETTO:-0500
TZNAME:EST
DTSTART:20251102T060000
END:STANDARD
END:VTIMEZONE
BEGIN:VEVENT
DTSTART;TZID=America/Toronto:20240714T130000
DTEND;TZID=America/Toronto:20240714T150000
DTSTAMP:20260424T123118
CREATED:20240705T171029Z
LAST-MODIFIED:20240705T171029Z
UID:10000101-1720962000-1720969200@bayviewleasidebia.com
SUMMARY:Ice Cream Sundays at The Sweet Potato
DESCRIPTION:Ice Cream Sundays are back at The Sweet Potato! Join us every Sunday\nin July from 1pm – 3pm for a free\, delicious ice cream.\n(While supplies last) \n 
URL:https://bayviewleasidebia.com/event/ice-cream-sundays-at-the-sweet-potato/2024-07-14/
LOCATION:The Sweet Potato\, 1678 Bayview Ave
ATTACH;FMTTYPE=image/png:https://bayviewleasidebia.com/wp-content/uploads/2024/07/Ice-Cream-Sundays.png
ORGANIZER;CN="The Sweet Potato":MAILTO:marketing@thesweetpotato.ca
END:VEVENT
END:VCALENDAR