BEGIN:VCALENDAR
VERSION:2.0
PRODID:-//Bayview Leaside BIA | Toronto - ECPv6.15.20//NONSGML v1.0//EN
CALSCALE:GREGORIAN
METHOD:PUBLISH
X-WR-CALNAME:Bayview Leaside BIA | Toronto
X-ORIGINAL-URL:https://bayviewleasidebia.com
X-WR-CALDESC:Events for Bayview Leaside BIA | Toronto
REFRESH-INTERVAL;VALUE=DURATION:PT1H
X-Robots-Tag:noindex
X-PUBLISHED-TTL:PT1H
BEGIN:VTIMEZONE
TZID:America/Toronto
BEGIN:DAYLIGHT
TZOFFSETFROM:-0500
TZOFFSETTO:-0400
TZNAME:EDT
DTSTART:20240310T070000
END:DAYLIGHT
BEGIN:STANDARD
TZOFFSETFROM:-0400
TZOFFSETTO:-0500
TZNAME:EST
DTSTART:20241103T060000
END:STANDARD
BEGIN:DAYLIGHT
TZOFFSETFROM:-0500
TZOFFSETTO:-0400
TZNAME:EDT
DTSTART:20250309T070000
END:DAYLIGHT
BEGIN:STANDARD
TZOFFSETFROM:-0400
TZOFFSETTO:-0500
TZNAME:EST
DTSTART:20251102T060000
END:STANDARD
BEGIN:DAYLIGHT
TZOFFSETFROM:-0500
TZOFFSETTO:-0400
TZNAME:EDT
DTSTART:20260308T070000
END:DAYLIGHT
BEGIN:STANDARD
TZOFFSETFROM:-0400
TZOFFSETTO:-0500
TZNAME:EST
DTSTART:20261101T060000
END:STANDARD
END:VTIMEZONE
BEGIN:VEVENT
DTSTART;TZID=America/Toronto:20250325T080000
DTEND;TZID=America/Toronto:20250429T170000
DTSTAMP:20260424T010238
CREATED:20250321T190152Z
LAST-MODIFIED:20250322T005409Z
UID:10000118-1742889600-1745946000@bayviewleasidebia.com
SUMMARY:Restorative Yoga
DESCRIPTION:“Restorative Yoga Series (6 weeks) with Meg Gold\, Yoga Instructor\nThese 6-week sessions will blend restorative yoga\, breathwork\, and meditation\, offering a gentle yet effective approach to relaxation and mindfulness. Each class encourages slow\, mindful movement\, with guided breath practices and meditation to help cultivate inner awareness and balance. Optional therapeutic touch will also be offered\, enhancing the relaxation experience and supporting your well-being. We are offering two opportunities to join us in person: \nGroup One: \nThursdays\, starting March 20th from 6:00 PM to 7:00 PM for 6 weeks\n\nCost: $32 per week ($192) +HST\n6 Spots Remaining\n \n\nGroup Two:  \nTuesdays\, starting March 25th from 12:00 PM to 1:00 PM for 6 weeks\n\nCost: $32 per week ($192) +HST\n6 Spots Remaining\n\nWe would love for you to join us! Please feel free to reach out if you have any questions or would like to register.” \nClients can contact us by phone (647)243-4235 or email us at info@growthwellnesstherapy.com. Additionally more information about the group can be found here. https://www.growthwellnesstherapy.com/upcoming-calendar/restorative-yoga-registration-open \nPlease let me know if you need any additional information! We thank you for everything you have done!\n\nKind regards\, \n\n\nHannah Yoxall \n\nPronouns: (she / her)\nIntake & Administrative Assistant\n\nThe Growth & Wellness Therapy Centre\n1670 Bayview Avenue\, Unit 502\nToronto\, ON M4G 3C2\nTel: (647) 243-4235\nWeb: www.growthwellnesstherapy.com
URL:https://bayviewleasidebia.com/event/restorative-yoga/
LOCATION:The Growth and Wellness Therapy Centre\, 1670 Bayview Ave Suite 502\, Toronto\, Ontario\, M4G 3C2\, Canada
ATTACH;FMTTYPE=image/png:https://bayviewleasidebia.com/wp-content/uploads/2025/03/The-Growth-Wellness-Therapy-Centre-Logo_CMYK_Full_Logo_Colour.png
ORGANIZER;CN="The Growth and Wellness Therapy Centre":MAILTO:info@growthwellnesstherapy.com
END:VEVENT
END:VCALENDAR