BEGIN:VCALENDAR
VERSION:2.0
PRODID:-//Bayview Leaside BIA | Toronto - ECPv6.15.20//NONSGML v1.0//EN
CALSCALE:GREGORIAN
METHOD:PUBLISH
X-WR-CALNAME:Bayview Leaside BIA | Toronto
X-ORIGINAL-URL:https://bayviewleasidebia.com
X-WR-CALDESC:Events for Bayview Leaside BIA | Toronto
REFRESH-INTERVAL;VALUE=DURATION:PT1H
X-Robots-Tag:noindex
X-PUBLISHED-TTL:PT1H
BEGIN:VTIMEZONE
TZID:America/Toronto
BEGIN:DAYLIGHT
TZOFFSETFROM:-0500
TZOFFSETTO:-0400
TZNAME:EDT
DTSTART:20240310T070000
END:DAYLIGHT
BEGIN:STANDARD
TZOFFSETFROM:-0400
TZOFFSETTO:-0500
TZNAME:EST
DTSTART:20241103T060000
END:STANDARD
BEGIN:DAYLIGHT
TZOFFSETFROM:-0500
TZOFFSETTO:-0400
TZNAME:EDT
DTSTART:20250309T070000
END:DAYLIGHT
BEGIN:STANDARD
TZOFFSETFROM:-0400
TZOFFSETTO:-0500
TZNAME:EST
DTSTART:20251102T060000
END:STANDARD
BEGIN:DAYLIGHT
TZOFFSETFROM:-0500
TZOFFSETTO:-0400
TZNAME:EDT
DTSTART:20260308T070000
END:DAYLIGHT
BEGIN:STANDARD
TZOFFSETFROM:-0400
TZOFFSETTO:-0500
TZNAME:EST
DTSTART:20261101T060000
END:STANDARD
END:VTIMEZONE
BEGIN:VEVENT
DTSTART;TZID=America/Toronto:20250430T183000
DTEND;TZID=America/Toronto:20250430T193000
DTSTAMP:20260423T212723
CREATED:20250320T172325Z
LAST-MODIFIED:20250320T172325Z
UID:10000116-1746037800-1746041400@bayviewleasidebia.com
SUMMARY:Flying With Your Bike
DESCRIPTION:Flying With Your Bike & Bikepacking 101 presentations\nThese two presentations will show you how to fly with your bike and\nwhat you need for a bikepacking trip.
URL:https://bayviewleasidebia.com/event/flying-with-your-bike/
LOCATION:Bike Depot\, 1588 Bayview Ave\, Toronto\, Ontario\, M4G 3B7\, Canada
CATEGORIES:Community Events
ATTACH;FMTTYPE=image/png:https://bayviewleasidebia.com/wp-content/uploads/2025/03/FLYING-WITH-YOUR-BIKE.png
ORGANIZER;CN="Bike Depot":MAILTO:leaside@bikedepot.com
END:VEVENT
END:VCALENDAR