BEGIN:VCALENDAR
VERSION:2.0
PRODID:-//Bayview Leaside BIA | Toronto - ECPv6.15.20//NONSGML v1.0//EN
CALSCALE:GREGORIAN
METHOD:PUBLISH
X-WR-CALNAME:Bayview Leaside BIA | Toronto
X-ORIGINAL-URL:https://bayviewleasidebia.com
X-WR-CALDESC:Events for Bayview Leaside BIA | Toronto
REFRESH-INTERVAL;VALUE=DURATION:PT1H
X-Robots-Tag:noindex
X-PUBLISHED-TTL:PT1H
BEGIN:VTIMEZONE
TZID:America/Toronto
BEGIN:DAYLIGHT
TZOFFSETFROM:-0500
TZOFFSETTO:-0400
TZNAME:EDT
DTSTART:20250309T070000
END:DAYLIGHT
BEGIN:STANDARD
TZOFFSETFROM:-0400
TZOFFSETTO:-0500
TZNAME:EST
DTSTART:20251102T060000
END:STANDARD
BEGIN:DAYLIGHT
TZOFFSETFROM:-0500
TZOFFSETTO:-0400
TZNAME:EDT
DTSTART:20260308T070000
END:DAYLIGHT
BEGIN:STANDARD
TZOFFSETFROM:-0400
TZOFFSETTO:-0500
TZNAME:EST
DTSTART:20261101T060000
END:STANDARD
BEGIN:DAYLIGHT
TZOFFSETFROM:-0500
TZOFFSETTO:-0400
TZNAME:EDT
DTSTART:20270314T070000
END:DAYLIGHT
BEGIN:STANDARD
TZOFFSETFROM:-0400
TZOFFSETTO:-0500
TZNAME:EST
DTSTART:20271107T060000
END:STANDARD
END:VTIMEZONE
BEGIN:VEVENT
DTSTART;TZID=America/Toronto:20260506T100000
DTEND;TZID=America/Toronto:20260506T180000
DTSTAMP:20260421T045442
CREATED:20260415T013210Z
LAST-MODIFIED:20260415T013210Z
UID:10000459-1778061600-1778090400@bayviewleasidebia.com
SUMMARY:Exclusive Red Carpet Event
DESCRIPTION:Step into a world of style and sophistication at our exclusive Red Carpet event. \nJoin us for a unique opportunity to experience the new season’s eyewear collections from top designer brands\, including Mont Blanc\, Saint Laurent\, Maui Jim\, Lindberg\, and Gucci. \nWhether you’re looking to refresh your look or find the perfect pair of glasses\, our team will be there to help you discover frames that match your style and vision needs. \n What to expect: \n– Access to the latest designer collections\n– Personalized styling assistance\n– Exclusive event-only offers\n– A premium in-store experience \n Date: May 6\, 2026\n Time: 10:00 AM – 6:00 PM\n Location: Bayview Vision \nDon’t miss this special event—elevate your eyewear and enjoy exclusive savings available for one day only.
URL:https://bayviewleasidebia.com/event/exclusive-red-carpet-event/
LOCATION:Bayview Vision\, 1709 Bayview Ave\, Toronto\, Ontario\, M4G 3C1\, Canada
CATEGORIES:Community Events
ATTACH;FMTTYPE=image/png:https://bayviewleasidebia.com/wp-content/uploads/2026/04/Screenshot-2026-04-14-164802.png
ORGANIZER;CN="Bayview Vision":MAILTO:marketing@bayviewvision.com
END:VEVENT
END:VCALENDAR