BEGIN:VCALENDAR
VERSION:2.0
PRODID:-//Bayview Leaside BIA | Toronto - ECPv6.15.20//NONSGML v1.0//EN
CALSCALE:GREGORIAN
METHOD:PUBLISH
X-WR-CALNAME:Bayview Leaside BIA | Toronto
X-ORIGINAL-URL:https://bayviewleasidebia.com
X-WR-CALDESC:Events for Bayview Leaside BIA | Toronto
REFRESH-INTERVAL;VALUE=DURATION:PT1H
X-Robots-Tag:noindex
X-PUBLISHED-TTL:PT1H
BEGIN:VTIMEZONE
TZID:America/Toronto
BEGIN:DAYLIGHT
TZOFFSETFROM:-0500
TZOFFSETTO:-0400
TZNAME:EDT
DTSTART:20230312T070000
END:DAYLIGHT
BEGIN:STANDARD
TZOFFSETFROM:-0400
TZOFFSETTO:-0500
TZNAME:EST
DTSTART:20231105T060000
END:STANDARD
BEGIN:DAYLIGHT
TZOFFSETFROM:-0500
TZOFFSETTO:-0400
TZNAME:EDT
DTSTART:20240310T070000
END:DAYLIGHT
BEGIN:STANDARD
TZOFFSETFROM:-0400
TZOFFSETTO:-0500
TZNAME:EST
DTSTART:20241103T060000
END:STANDARD
BEGIN:DAYLIGHT
TZOFFSETFROM:-0500
TZOFFSETTO:-0400
TZNAME:EDT
DTSTART:20250309T070000
END:DAYLIGHT
BEGIN:STANDARD
TZOFFSETFROM:-0400
TZOFFSETTO:-0500
TZNAME:EST
DTSTART:20251102T060000
END:STANDARD
END:VTIMEZONE
BEGIN:VEVENT
DTSTART;TZID=America/Toronto:20240909T080000
DTEND;TZID=America/Toronto:20241004T170000
DTSTAMP:20260424T064934
CREATED:20240918T152412Z
LAST-MODIFIED:20240918T152722Z
UID:10000106-1725868800-1728061200@bayviewleasidebia.com
SUMMARY:Thanksgiving Turkey pre-order
DESCRIPTION:Pre-order a fresh\, whole\, organic turkey for your Thanksgiving feast! \nOrganic\, non-GMO grain fed\, antibiotic-free whole turkeys from\nYorkshire Valley Farms.\nSizes range from 13 to 18 pounds. $50 deposit required. \nDrop by the store at 1678 Bayview Ave or give us a call at\n416-762-4848 to reserve yours.
URL:https://bayviewleasidebia.com/event/thanksgiving-turkey-pre-order/
LOCATION:The Sweet Potato\, 1678 Bayview Ave
ORGANIZER;CN="The Sweet Potato":MAILTO:marketing@thesweetpotato.ca
END:VEVENT
BEGIN:VEVENT
DTSTART;TZID=America/Toronto:20241017T173000
DTEND;TZID=America/Toronto:20241017T193000
DTSTAMP:20260424T064934
CREATED:20241004T153308Z
LAST-MODIFIED:20241004T153308Z
UID:10000107-1729186200-1729193400@bayviewleasidebia.com
SUMMARY:RBC Real Estate: Financing Commercial and Residential Properties
DESCRIPTION:Details \nDate: October 17 2024 at 5:30 pm Mode: In-Person \nLocation: Bayview and Belsize RBC branch \n1554 Bayview Ave Toronto ON CA M4G 3B6 \nPresenters: \n» Rachel Zhou\, BC Relationship Manager Business Market \n\nShirley Zhou\, RBC Senior Mortgage specialist\nMelissa Chan\, Tridel Sales Representative\n\nRegister Today! \nContact: \n» Rachel Zhou\, Rachel.v.zhou@rbc.com 647-502-3097 \n• Shirley Zhou\, Shirley.zhou@rbc.com 416-346-4367 \nSpace is limited. \nPlease register by October 15 2024 \n 
URL:https://bayviewleasidebia.com/event/rbc-real-estate-financing-commercial-and-residential-properties/
LOCATION:RBC\, 1554 Bayview Avenue\, Toronto\, Ontario\, M4G 3B6\, Canada
CATEGORIES:Community Events
ORGANIZER;CN="RBC":MAILTO:Rachel.v.zhou@rbc.com
END:VEVENT
BEGIN:VEVENT
DTSTART;TZID=America/Toronto:20241019T103000
DTEND;TZID=America/Toronto:20241019T150000
DTSTAMP:20260424T064934
CREATED:20240303T191307Z
LAST-MODIFIED:20241019T015653Z
UID:10000078-1729333800-1729350000@bayviewleasidebia.com
SUMMARY:AppleFest 2024
DESCRIPTION:SAVE THE DATE for our annual AppleFest happening on Saturday\, October 19th! Stay tuned for more details and make sure to follow us on social media at @BayviewLeasideBIA! \n 
URL:https://bayviewleasidebia.com/event/applefest-2024-save-the-date/
LOCATION:Bayview Leaside BIA\, 1540 Bayview Avenue\, Toronto\, Ontario\, M4G3B6\, Canada
CATEGORIES:Community Events
GEO:43.704845978659;-79.374953702317
X-APPLE-STRUCTURED-LOCATION;VALUE=URI;X-ADDRESS=Bayview Leaside BIA 1540 Bayview Avenue Toronto Ontario M4G3B6 Canada;X-APPLE-RADIUS=500;X-TITLE=1540 Bayview Avenue:geo:-79.374953702317,43.704845978659
END:VEVENT
END:VCALENDAR