BEGIN:VCALENDAR
VERSION:2.0
PRODID:-//Bayview Leaside BIA | Toronto - ECPv6.15.20//NONSGML v1.0//EN
CALSCALE:GREGORIAN
METHOD:PUBLISH
X-ORIGINAL-URL:https://bayviewleasidebia.com
X-WR-CALDESC:Events for Bayview Leaside BIA | Toronto
REFRESH-INTERVAL;VALUE=DURATION:PT1H
X-Robots-Tag:noindex
X-PUBLISHED-TTL:PT1H
BEGIN:VTIMEZONE
TZID:America/Toronto
BEGIN:DAYLIGHT
TZOFFSETFROM:-0500
TZOFFSETTO:-0400
TZNAME:EDT
DTSTART:20240310T070000
END:DAYLIGHT
BEGIN:STANDARD
TZOFFSETFROM:-0400
TZOFFSETTO:-0500
TZNAME:EST
DTSTART:20241103T060000
END:STANDARD
BEGIN:DAYLIGHT
TZOFFSETFROM:-0500
TZOFFSETTO:-0400
TZNAME:EDT
DTSTART:20250309T070000
END:DAYLIGHT
BEGIN:STANDARD
TZOFFSETFROM:-0400
TZOFFSETTO:-0500
TZNAME:EST
DTSTART:20251102T060000
END:STANDARD
BEGIN:DAYLIGHT
TZOFFSETFROM:-0500
TZOFFSETTO:-0400
TZNAME:EDT
DTSTART:20260308T070000
END:DAYLIGHT
BEGIN:STANDARD
TZOFFSETFROM:-0400
TZOFFSETTO:-0500
TZNAME:EST
DTSTART:20261101T060000
END:STANDARD
END:VTIMEZONE
BEGIN:VEVENT
DTSTART;TZID=America/Toronto:20250602T191500
DTEND;TZID=America/Toronto:20250602T201500
DTSTAMP:20260423T184529
CREATED:20250331T151920Z
LAST-MODIFIED:20250331T151920Z
UID:10000392-1748891700-1748895300@bayviewleasidebia.com
SUMMARY:Trauma Centre Trauma Sensitive Yoga (TCTSY) Group
DESCRIPTION:**Every Monday for 8 weeks** \n8-Week Trauma Centred Trauma Sensitive Yoga Group\nDates: Mondays starting April 7th (excluding Victoria Day – May 19th)\nTime: 7:15pm – 8:15pm\nLocation: 1670 Bayview ave.\, Suite 502 \nCost\nIn person TCTSY 8 Week Program – $280 for the whole program ($35 /\nsession) – Payment is collected upon registration as a credit\, with\nthat credit being applied each week to the session. Individual session\nreceipts will be provided every week for insurance or tax purposes. \nInsurance Coverage\nThe services of our therapist\, Nicole D’Souza\, MSW RSW\, TCTSY-F\n(Registered Social Work) may be covered by your extended health\nbenefits as they may be claimed under social work services\, though\nthey are not covered by OHIP. To find out if you are covered\, you\nwould need to know if you have coverage for a Registered Social Worker\nunder your insurance plan. At this time unfortunately we do not file\ninsurance claims on behalf of clients\, so upon receipt of payment you\nwill receive a receipt which can be used to seek reimbursement from\nyour insurance provider (if applicable). \nCancellation Policy\nCancellation refunds are available at 50% of the registration fee if\nyou cancel your participation in the entire group program a week prior\nto the first session. There is no refund available for individual\nmissed weekly sessions. In the event that the group is canceled on our\npart\, clients who have made payment will receive a refund for the\ntotal amount of the program.
URL:https://bayviewleasidebia.com/event/trauma-centre-trauma-sensitive-yoga-tctsy-group/2025-06-02/
LOCATION:The Growth and Wellness Therapy Centre\, 1670 Bayview Ave Suite 502\, Toronto\, Ontario\, M4G 3C2\, Canada
ATTACH;FMTTYPE=image/png:https://bayviewleasidebia.com/wp-content/uploads/2025/03/Angelyn-_____________________________-Massage-Therapist-6.png
ORGANIZER;CN="The Growth and Wellness Therapy Centre":MAILTO:info@growthwellnesstherapy.com
END:VEVENT
BEGIN:VEVENT
DTSTART;TZID=America/Toronto:20250609T191500
DTEND;TZID=America/Toronto:20250609T201500
DTSTAMP:20260423T184529
CREATED:20250331T151920Z
LAST-MODIFIED:20250331T151920Z
UID:10000393-1749496500-1749500100@bayviewleasidebia.com
SUMMARY:Trauma Centre Trauma Sensitive Yoga (TCTSY) Group
DESCRIPTION:**Every Monday for 8 weeks** \n8-Week Trauma Centred Trauma Sensitive Yoga Group\nDates: Mondays starting April 7th (excluding Victoria Day – May 19th)\nTime: 7:15pm – 8:15pm\nLocation: 1670 Bayview ave.\, Suite 502 \nCost\nIn person TCTSY 8 Week Program – $280 for the whole program ($35 /\nsession) – Payment is collected upon registration as a credit\, with\nthat credit being applied each week to the session. Individual session\nreceipts will be provided every week for insurance or tax purposes. \nInsurance Coverage\nThe services of our therapist\, Nicole D’Souza\, MSW RSW\, TCTSY-F\n(Registered Social Work) may be covered by your extended health\nbenefits as they may be claimed under social work services\, though\nthey are not covered by OHIP. To find out if you are covered\, you\nwould need to know if you have coverage for a Registered Social Worker\nunder your insurance plan. At this time unfortunately we do not file\ninsurance claims on behalf of clients\, so upon receipt of payment you\nwill receive a receipt which can be used to seek reimbursement from\nyour insurance provider (if applicable). \nCancellation Policy\nCancellation refunds are available at 50% of the registration fee if\nyou cancel your participation in the entire group program a week prior\nto the first session. There is no refund available for individual\nmissed weekly sessions. In the event that the group is canceled on our\npart\, clients who have made payment will receive a refund for the\ntotal amount of the program.
URL:https://bayviewleasidebia.com/event/trauma-centre-trauma-sensitive-yoga-tctsy-group/2025-06-09/
LOCATION:The Growth and Wellness Therapy Centre\, 1670 Bayview Ave Suite 502\, Toronto\, Ontario\, M4G 3C2\, Canada
ATTACH;FMTTYPE=image/png:https://bayviewleasidebia.com/wp-content/uploads/2025/03/Angelyn-_____________________________-Massage-Therapist-6.png
ORGANIZER;CN="The Growth and Wellness Therapy Centre":MAILTO:info@growthwellnesstherapy.com
END:VEVENT
BEGIN:VEVENT
DTSTART;TZID=America/Toronto:20250611T183000
DTEND;TZID=America/Toronto:20250611T203000
DTSTAMP:20260423T184529
CREATED:20250605T191633Z
LAST-MODIFIED:20250605T191633Z
UID:10000448-1749666600-1749673800@bayviewleasidebia.com
SUMMARY:Building Resilience: A Weekly Online Substance Use Skills Group
DESCRIPTION:Building Resilience offers a safe and flexible space where group\nmembers can focus on skills development and personal understanding of\ntheir relationship with alcohol and/or drugs. The group is led by an\nexperienced group facilitator in the field of substance use treatment. \nEach session offers new topics\, skills\, and exercises that address the\nunderlying issues driving substance use. Group members are supported\nin understanding their patterns of substance use and increasing their\nability to effect change. Group members also learn how to share and\nprocess their experiences\, build tools to cope with triggers\, and\ndevelop a customized change plan for abstinence or reduction. \nThis is an “open group”\, offering rolling intakes and flexible\nattendance; you can start at any time and do not have to attend every\nweek. The group capacity is eight participants per session and\nrequires registration ahead of time to secure a spot for the week.
URL:https://bayviewleasidebia.com/event/building-resilience-a-weekly-online-substance-use-skills-group/2025-06-11/
LOCATION:The Growth and Wellness Therapy Centre\, 1670 Bayview Ave Suite 502\, Toronto\, Ontario\, M4G 3C2\, Canada
ORGANIZER;CN="The Growth and Wellness Therapy Centre":MAILTO:info@growthwellnesstherapy.com
END:VEVENT
BEGIN:VEVENT
DTSTART;TZID=America/Toronto:20250614T103000
DTEND;TZID=America/Toronto:20250614T153000
DTSTAMP:20260423T184529
CREATED:20250605T195023Z
LAST-MODIFIED:20250820T171736Z
UID:10000450-1749897000-1749915000@bayviewleasidebia.com
SUMMARY:Sidewalk Sensation Event
DESCRIPTION: Join the Fun on Bayview Avenue! Saturday\, June 14th from 10:30 AM to 3:30 PM\, stroll Bayview Avenue from Parkhurst to Davisville for a day of family-friendly fun\, live entertainment\, and amazing local shopping!\n Explore the fantastic shops of the Bayview Leaside BIA and discover the perfect gift for Father’s Day while enjoying great vibes all around.\n Enjoy FREE activities and giveaways\, including: Face Painting for the Kids Colour-In Greeting Cards for any age Reusable Shopping Bags (while supplies last) Coupons for a FREE Drink or Snack (while supplies last) Delicious Food Samples from Local Restaurants\nBring the whole family—you won’t want to miss it!
URL:https://bayviewleasidebia.com/event/sidewalk-sensation-events/
LOCATION:Bayview Leaside BIA\, 1540 Bayview Avenue\, Toronto\, Ontario\, M4G3B6\, Canada
GEO:43.704845978659;-79.374953702317
X-APPLE-STRUCTURED-LOCATION;VALUE=URI;X-ADDRESS=Bayview Leaside BIA 1540 Bayview Avenue Toronto Ontario M4G3B6 Canada;X-APPLE-RADIUS=500;X-TITLE=1540 Bayview Avenue:geo:-79.374953702317,43.704845978659
END:VEVENT
BEGIN:VEVENT
DTSTART;TZID=America/Toronto:20250616T191500
DTEND;TZID=America/Toronto:20250616T201500
DTSTAMP:20260423T184529
CREATED:20250331T151920Z
LAST-MODIFIED:20250331T151920Z
UID:10000394-1750101300-1750104900@bayviewleasidebia.com
SUMMARY:Trauma Centre Trauma Sensitive Yoga (TCTSY) Group
DESCRIPTION:**Every Monday for 8 weeks** \n8-Week Trauma Centred Trauma Sensitive Yoga Group\nDates: Mondays starting April 7th (excluding Victoria Day – May 19th)\nTime: 7:15pm – 8:15pm\nLocation: 1670 Bayview ave.\, Suite 502 \nCost\nIn person TCTSY 8 Week Program – $280 for the whole program ($35 /\nsession) – Payment is collected upon registration as a credit\, with\nthat credit being applied each week to the session. Individual session\nreceipts will be provided every week for insurance or tax purposes. \nInsurance Coverage\nThe services of our therapist\, Nicole D’Souza\, MSW RSW\, TCTSY-F\n(Registered Social Work) may be covered by your extended health\nbenefits as they may be claimed under social work services\, though\nthey are not covered by OHIP. To find out if you are covered\, you\nwould need to know if you have coverage for a Registered Social Worker\nunder your insurance plan. At this time unfortunately we do not file\ninsurance claims on behalf of clients\, so upon receipt of payment you\nwill receive a receipt which can be used to seek reimbursement from\nyour insurance provider (if applicable). \nCancellation Policy\nCancellation refunds are available at 50% of the registration fee if\nyou cancel your participation in the entire group program a week prior\nto the first session. There is no refund available for individual\nmissed weekly sessions. In the event that the group is canceled on our\npart\, clients who have made payment will receive a refund for the\ntotal amount of the program.
URL:https://bayviewleasidebia.com/event/trauma-centre-trauma-sensitive-yoga-tctsy-group/2025-06-16/
LOCATION:The Growth and Wellness Therapy Centre\, 1670 Bayview Ave Suite 502\, Toronto\, Ontario\, M4G 3C2\, Canada
ATTACH;FMTTYPE=image/png:https://bayviewleasidebia.com/wp-content/uploads/2025/03/Angelyn-_____________________________-Massage-Therapist-6.png
ORGANIZER;CN="The Growth and Wellness Therapy Centre":MAILTO:info@growthwellnesstherapy.com
END:VEVENT
BEGIN:VEVENT
DTSTART;TZID=America/Toronto:20250618T183000
DTEND;TZID=America/Toronto:20250618T203000
DTSTAMP:20260423T184529
CREATED:20250605T191633Z
LAST-MODIFIED:20250605T191633Z
UID:10000449-1750271400-1750278600@bayviewleasidebia.com
SUMMARY:Building Resilience: A Weekly Online Substance Use Skills Group
DESCRIPTION:Building Resilience offers a safe and flexible space where group\nmembers can focus on skills development and personal understanding of\ntheir relationship with alcohol and/or drugs. The group is led by an\nexperienced group facilitator in the field of substance use treatment. \nEach session offers new topics\, skills\, and exercises that address the\nunderlying issues driving substance use. Group members are supported\nin understanding their patterns of substance use and increasing their\nability to effect change. Group members also learn how to share and\nprocess their experiences\, build tools to cope with triggers\, and\ndevelop a customized change plan for abstinence or reduction. \nThis is an “open group”\, offering rolling intakes and flexible\nattendance; you can start at any time and do not have to attend every\nweek. The group capacity is eight participants per session and\nrequires registration ahead of time to secure a spot for the week.
URL:https://bayviewleasidebia.com/event/building-resilience-a-weekly-online-substance-use-skills-group/2025-06-18/
LOCATION:The Growth and Wellness Therapy Centre\, 1670 Bayview Ave Suite 502\, Toronto\, Ontario\, M4G 3C2\, Canada
ORGANIZER;CN="The Growth and Wellness Therapy Centre":MAILTO:info@growthwellnesstherapy.com
END:VEVENT
BEGIN:VEVENT
DTSTART;TZID=America/Toronto:20250623T191500
DTEND;TZID=America/Toronto:20250623T201500
DTSTAMP:20260423T184529
CREATED:20250331T151920Z
LAST-MODIFIED:20250331T151920Z
UID:10000395-1750706100-1750709700@bayviewleasidebia.com
SUMMARY:Trauma Centre Trauma Sensitive Yoga (TCTSY) Group
DESCRIPTION:**Every Monday for 8 weeks** \n8-Week Trauma Centred Trauma Sensitive Yoga Group\nDates: Mondays starting April 7th (excluding Victoria Day – May 19th)\nTime: 7:15pm – 8:15pm\nLocation: 1670 Bayview ave.\, Suite 502 \nCost\nIn person TCTSY 8 Week Program – $280 for the whole program ($35 /\nsession) – Payment is collected upon registration as a credit\, with\nthat credit being applied each week to the session. Individual session\nreceipts will be provided every week for insurance or tax purposes. \nInsurance Coverage\nThe services of our therapist\, Nicole D’Souza\, MSW RSW\, TCTSY-F\n(Registered Social Work) may be covered by your extended health\nbenefits as they may be claimed under social work services\, though\nthey are not covered by OHIP. To find out if you are covered\, you\nwould need to know if you have coverage for a Registered Social Worker\nunder your insurance plan. At this time unfortunately we do not file\ninsurance claims on behalf of clients\, so upon receipt of payment you\nwill receive a receipt which can be used to seek reimbursement from\nyour insurance provider (if applicable). \nCancellation Policy\nCancellation refunds are available at 50% of the registration fee if\nyou cancel your participation in the entire group program a week prior\nto the first session. There is no refund available for individual\nmissed weekly sessions. In the event that the group is canceled on our\npart\, clients who have made payment will receive a refund for the\ntotal amount of the program.
URL:https://bayviewleasidebia.com/event/trauma-centre-trauma-sensitive-yoga-tctsy-group/2025-06-23/
LOCATION:The Growth and Wellness Therapy Centre\, 1670 Bayview Ave Suite 502\, Toronto\, Ontario\, M4G 3C2\, Canada
ATTACH;FMTTYPE=image/png:https://bayviewleasidebia.com/wp-content/uploads/2025/03/Angelyn-_____________________________-Massage-Therapist-6.png
ORGANIZER;CN="The Growth and Wellness Therapy Centre":MAILTO:info@growthwellnesstherapy.com
END:VEVENT
BEGIN:VEVENT
DTSTART;TZID=America/Toronto:20250630T191500
DTEND;TZID=America/Toronto:20250630T201500
DTSTAMP:20260423T184529
CREATED:20250331T151920Z
LAST-MODIFIED:20250331T151920Z
UID:10000396-1751310900-1751314500@bayviewleasidebia.com
SUMMARY:Trauma Centre Trauma Sensitive Yoga (TCTSY) Group
DESCRIPTION:**Every Monday for 8 weeks** \n8-Week Trauma Centred Trauma Sensitive Yoga Group\nDates: Mondays starting April 7th (excluding Victoria Day – May 19th)\nTime: 7:15pm – 8:15pm\nLocation: 1670 Bayview ave.\, Suite 502 \nCost\nIn person TCTSY 8 Week Program – $280 for the whole program ($35 /\nsession) – Payment is collected upon registration as a credit\, with\nthat credit being applied each week to the session. Individual session\nreceipts will be provided every week for insurance or tax purposes. \nInsurance Coverage\nThe services of our therapist\, Nicole D’Souza\, MSW RSW\, TCTSY-F\n(Registered Social Work) may be covered by your extended health\nbenefits as they may be claimed under social work services\, though\nthey are not covered by OHIP. To find out if you are covered\, you\nwould need to know if you have coverage for a Registered Social Worker\nunder your insurance plan. At this time unfortunately we do not file\ninsurance claims on behalf of clients\, so upon receipt of payment you\nwill receive a receipt which can be used to seek reimbursement from\nyour insurance provider (if applicable). \nCancellation Policy\nCancellation refunds are available at 50% of the registration fee if\nyou cancel your participation in the entire group program a week prior\nto the first session. There is no refund available for individual\nmissed weekly sessions. In the event that the group is canceled on our\npart\, clients who have made payment will receive a refund for the\ntotal amount of the program.
URL:https://bayviewleasidebia.com/event/trauma-centre-trauma-sensitive-yoga-tctsy-group/2025-06-30/
LOCATION:The Growth and Wellness Therapy Centre\, 1670 Bayview Ave Suite 502\, Toronto\, Ontario\, M4G 3C2\, Canada
ATTACH;FMTTYPE=image/png:https://bayviewleasidebia.com/wp-content/uploads/2025/03/Angelyn-_____________________________-Massage-Therapist-6.png
ORGANIZER;CN="The Growth and Wellness Therapy Centre":MAILTO:info@growthwellnesstherapy.com
END:VEVENT
END:VCALENDAR