BEGIN:VCALENDAR
VERSION:2.0
PRODID:-//Bayview Leaside BIA | Toronto - ECPv6.15.20//NONSGML v1.0//EN
CALSCALE:GREGORIAN
METHOD:PUBLISH
X-ORIGINAL-URL:https://bayviewleasidebia.com
X-WR-CALDESC:Events for Bayview Leaside BIA | Toronto
REFRESH-INTERVAL;VALUE=DURATION:PT1H
X-Robots-Tag:noindex
X-PUBLISHED-TTL:PT1H
BEGIN:VTIMEZONE
TZID:America/Toronto
BEGIN:DAYLIGHT
TZOFFSETFROM:-0500
TZOFFSETTO:-0400
TZNAME:EDT
DTSTART:20240310T070000
END:DAYLIGHT
BEGIN:STANDARD
TZOFFSETFROM:-0400
TZOFFSETTO:-0500
TZNAME:EST
DTSTART:20241103T060000
END:STANDARD
BEGIN:DAYLIGHT
TZOFFSETFROM:-0500
TZOFFSETTO:-0400
TZNAME:EDT
DTSTART:20250309T070000
END:DAYLIGHT
BEGIN:STANDARD
TZOFFSETFROM:-0400
TZOFFSETTO:-0500
TZNAME:EST
DTSTART:20251102T060000
END:STANDARD
BEGIN:DAYLIGHT
TZOFFSETFROM:-0500
TZOFFSETTO:-0400
TZNAME:EDT
DTSTART:20260308T070000
END:DAYLIGHT
BEGIN:STANDARD
TZOFFSETFROM:-0400
TZOFFSETTO:-0500
TZNAME:EST
DTSTART:20261101T060000
END:STANDARD
END:VTIMEZONE
BEGIN:VEVENT
DTSTART;TZID=America/Toronto:20251201T191500
DTEND;TZID=America/Toronto:20251201T201500
DTSTAMP:20260423T102012
CREATED:20250331T151920Z
LAST-MODIFIED:20250331T151920Z
UID:10000418-1764616500-1764620100@bayviewleasidebia.com
SUMMARY:Trauma Centre Trauma Sensitive Yoga (TCTSY) Group
DESCRIPTION:**Every Monday for 8 weeks** \n8-Week Trauma Centred Trauma Sensitive Yoga Group\nDates: Mondays starting April 7th (excluding Victoria Day – May 19th)\nTime: 7:15pm – 8:15pm\nLocation: 1670 Bayview ave.\, Suite 502 \nCost\nIn person TCTSY 8 Week Program – $280 for the whole program ($35 /\nsession) – Payment is collected upon registration as a credit\, with\nthat credit being applied each week to the session. Individual session\nreceipts will be provided every week for insurance or tax purposes. \nInsurance Coverage\nThe services of our therapist\, Nicole D’Souza\, MSW RSW\, TCTSY-F\n(Registered Social Work) may be covered by your extended health\nbenefits as they may be claimed under social work services\, though\nthey are not covered by OHIP. To find out if you are covered\, you\nwould need to know if you have coverage for a Registered Social Worker\nunder your insurance plan. At this time unfortunately we do not file\ninsurance claims on behalf of clients\, so upon receipt of payment you\nwill receive a receipt which can be used to seek reimbursement from\nyour insurance provider (if applicable). \nCancellation Policy\nCancellation refunds are available at 50% of the registration fee if\nyou cancel your participation in the entire group program a week prior\nto the first session. There is no refund available for individual\nmissed weekly sessions. In the event that the group is canceled on our\npart\, clients who have made payment will receive a refund for the\ntotal amount of the program.
URL:https://bayviewleasidebia.com/event/trauma-centre-trauma-sensitive-yoga-tctsy-group/2025-12-01/
LOCATION:The Growth and Wellness Therapy Centre\, 1670 Bayview Ave Suite 502\, Toronto\, Ontario\, M4G 3C2\, Canada
ATTACH;FMTTYPE=image/png:https://bayviewleasidebia.com/wp-content/uploads/2025/03/Angelyn-_____________________________-Massage-Therapist-6.png
ORGANIZER;CN="The Growth and Wellness Therapy Centre":MAILTO:info@growthwellnesstherapy.com
END:VEVENT
BEGIN:VEVENT
DTSTART;TZID=America/Toronto:20251208T191500
DTEND;TZID=America/Toronto:20251208T201500
DTSTAMP:20260423T102012
CREATED:20250331T151920Z
LAST-MODIFIED:20250331T151920Z
UID:10000419-1765221300-1765224900@bayviewleasidebia.com
SUMMARY:Trauma Centre Trauma Sensitive Yoga (TCTSY) Group
DESCRIPTION:**Every Monday for 8 weeks** \n8-Week Trauma Centred Trauma Sensitive Yoga Group\nDates: Mondays starting April 7th (excluding Victoria Day – May 19th)\nTime: 7:15pm – 8:15pm\nLocation: 1670 Bayview ave.\, Suite 502 \nCost\nIn person TCTSY 8 Week Program – $280 for the whole program ($35 /\nsession) – Payment is collected upon registration as a credit\, with\nthat credit being applied each week to the session. Individual session\nreceipts will be provided every week for insurance or tax purposes. \nInsurance Coverage\nThe services of our therapist\, Nicole D’Souza\, MSW RSW\, TCTSY-F\n(Registered Social Work) may be covered by your extended health\nbenefits as they may be claimed under social work services\, though\nthey are not covered by OHIP. To find out if you are covered\, you\nwould need to know if you have coverage for a Registered Social Worker\nunder your insurance plan. At this time unfortunately we do not file\ninsurance claims on behalf of clients\, so upon receipt of payment you\nwill receive a receipt which can be used to seek reimbursement from\nyour insurance provider (if applicable). \nCancellation Policy\nCancellation refunds are available at 50% of the registration fee if\nyou cancel your participation in the entire group program a week prior\nto the first session. There is no refund available for individual\nmissed weekly sessions. In the event that the group is canceled on our\npart\, clients who have made payment will receive a refund for the\ntotal amount of the program.
URL:https://bayviewleasidebia.com/event/trauma-centre-trauma-sensitive-yoga-tctsy-group/2025-12-08/
LOCATION:The Growth and Wellness Therapy Centre\, 1670 Bayview Ave Suite 502\, Toronto\, Ontario\, M4G 3C2\, Canada
ATTACH;FMTTYPE=image/png:https://bayviewleasidebia.com/wp-content/uploads/2025/03/Angelyn-_____________________________-Massage-Therapist-6.png
ORGANIZER;CN="The Growth and Wellness Therapy Centre":MAILTO:info@growthwellnesstherapy.com
END:VEVENT
BEGIN:VEVENT
DTSTART;TZID=America/Toronto:20251213T110000
DTEND;TZID=America/Toronto:20251213T160000
DTSTAMP:20260423T102012
CREATED:20251121T151055Z
LAST-MODIFIED:20251121T151332Z
UID:10000456-1765623600-1765641600@bayviewleasidebia.com
SUMMARY:✨ Winter Wonderland at Bayview Vision ✨
DESCRIPTION:Join us for a magical holiday celebration designed especially for kids and families! \n Santa Claus will be at the clinic from 11:00 AM to 4:00 PM\, ready to greet your little ones during their special eye check-up. At 11:30 AM\, enjoy a lively sing-along with Santa\, followed by live music to keep the festive spirit going. \nWhat to Expect:\n• Special eye check-up with Santa Claus\n• Holiday arts & crafts\n• Rhymes\, songs\, and storytelling\n• A cheerful winter-themed playground\n• Wonderful photo opportunities\n• A warm\, family-friendly environment \n Saturday: December 13th\, 2025\n 11:00 AM – 4:00 PM\n Bayview Vision – 1709 Bayview Avenue\, Toronto \nBring your little ones for a joyful and memorable holiday experience. We can’t wait to celebrate with you!  \n  \nSecure your FREE tickets here: https://www.eventbrite.ca/e/winter-wonderland-at-bayview-vision-tickets-1975114147584?aff=oddtdtcreator
URL:https://bayviewleasidebia.com/event/%e2%9c%a8-winter-wonderland-at-bayview-vision-%e2%9c%a8/
LOCATION:Bayview Vision\, 1709 Bayview Ave\, Toronto\, Ontario\, M4G 3C1\, Canada
CATEGORIES:Community Events
ATTACH;FMTTYPE=image/png:https://bayviewleasidebia.com/wp-content/uploads/2025/11/Winter-wonderland.png
END:VEVENT
BEGIN:VEVENT
DTSTART;TZID=America/Toronto:20251215T191500
DTEND;TZID=America/Toronto:20251215T201500
DTSTAMP:20260423T102012
CREATED:20250331T151920Z
LAST-MODIFIED:20250331T151920Z
UID:10000420-1765826100-1765829700@bayviewleasidebia.com
SUMMARY:Trauma Centre Trauma Sensitive Yoga (TCTSY) Group
DESCRIPTION:**Every Monday for 8 weeks** \n8-Week Trauma Centred Trauma Sensitive Yoga Group\nDates: Mondays starting April 7th (excluding Victoria Day – May 19th)\nTime: 7:15pm – 8:15pm\nLocation: 1670 Bayview ave.\, Suite 502 \nCost\nIn person TCTSY 8 Week Program – $280 for the whole program ($35 /\nsession) – Payment is collected upon registration as a credit\, with\nthat credit being applied each week to the session. Individual session\nreceipts will be provided every week for insurance or tax purposes. \nInsurance Coverage\nThe services of our therapist\, Nicole D’Souza\, MSW RSW\, TCTSY-F\n(Registered Social Work) may be covered by your extended health\nbenefits as they may be claimed under social work services\, though\nthey are not covered by OHIP. To find out if you are covered\, you\nwould need to know if you have coverage for a Registered Social Worker\nunder your insurance plan. At this time unfortunately we do not file\ninsurance claims on behalf of clients\, so upon receipt of payment you\nwill receive a receipt which can be used to seek reimbursement from\nyour insurance provider (if applicable). \nCancellation Policy\nCancellation refunds are available at 50% of the registration fee if\nyou cancel your participation in the entire group program a week prior\nto the first session. There is no refund available for individual\nmissed weekly sessions. In the event that the group is canceled on our\npart\, clients who have made payment will receive a refund for the\ntotal amount of the program.
URL:https://bayviewleasidebia.com/event/trauma-centre-trauma-sensitive-yoga-tctsy-group/2025-12-15/
LOCATION:The Growth and Wellness Therapy Centre\, 1670 Bayview Ave Suite 502\, Toronto\, Ontario\, M4G 3C2\, Canada
ATTACH;FMTTYPE=image/png:https://bayviewleasidebia.com/wp-content/uploads/2025/03/Angelyn-_____________________________-Massage-Therapist-6.png
ORGANIZER;CN="The Growth and Wellness Therapy Centre":MAILTO:info@growthwellnesstherapy.com
END:VEVENT
BEGIN:VEVENT
DTSTART;TZID=America/Toronto:20251222T191500
DTEND;TZID=America/Toronto:20251222T201500
DTSTAMP:20260423T102012
CREATED:20250331T151920Z
LAST-MODIFIED:20250331T151920Z
UID:10000421-1766430900-1766434500@bayviewleasidebia.com
SUMMARY:Trauma Centre Trauma Sensitive Yoga (TCTSY) Group
DESCRIPTION:**Every Monday for 8 weeks** \n8-Week Trauma Centred Trauma Sensitive Yoga Group\nDates: Mondays starting April 7th (excluding Victoria Day – May 19th)\nTime: 7:15pm – 8:15pm\nLocation: 1670 Bayview ave.\, Suite 502 \nCost\nIn person TCTSY 8 Week Program – $280 for the whole program ($35 /\nsession) – Payment is collected upon registration as a credit\, with\nthat credit being applied each week to the session. Individual session\nreceipts will be provided every week for insurance or tax purposes. \nInsurance Coverage\nThe services of our therapist\, Nicole D’Souza\, MSW RSW\, TCTSY-F\n(Registered Social Work) may be covered by your extended health\nbenefits as they may be claimed under social work services\, though\nthey are not covered by OHIP. To find out if you are covered\, you\nwould need to know if you have coverage for a Registered Social Worker\nunder your insurance plan. At this time unfortunately we do not file\ninsurance claims on behalf of clients\, so upon receipt of payment you\nwill receive a receipt which can be used to seek reimbursement from\nyour insurance provider (if applicable). \nCancellation Policy\nCancellation refunds are available at 50% of the registration fee if\nyou cancel your participation in the entire group program a week prior\nto the first session. There is no refund available for individual\nmissed weekly sessions. In the event that the group is canceled on our\npart\, clients who have made payment will receive a refund for the\ntotal amount of the program.
URL:https://bayviewleasidebia.com/event/trauma-centre-trauma-sensitive-yoga-tctsy-group/2025-12-22/
LOCATION:The Growth and Wellness Therapy Centre\, 1670 Bayview Ave Suite 502\, Toronto\, Ontario\, M4G 3C2\, Canada
ATTACH;FMTTYPE=image/png:https://bayviewleasidebia.com/wp-content/uploads/2025/03/Angelyn-_____________________________-Massage-Therapist-6.png
ORGANIZER;CN="The Growth and Wellness Therapy Centre":MAILTO:info@growthwellnesstherapy.com
END:VEVENT
BEGIN:VEVENT
DTSTART;TZID=America/Toronto:20251229T191500
DTEND;TZID=America/Toronto:20251229T201500
DTSTAMP:20260423T102012
CREATED:20250331T151920Z
LAST-MODIFIED:20250331T151920Z
UID:10000422-1767035700-1767039300@bayviewleasidebia.com
SUMMARY:Trauma Centre Trauma Sensitive Yoga (TCTSY) Group
DESCRIPTION:**Every Monday for 8 weeks** \n8-Week Trauma Centred Trauma Sensitive Yoga Group\nDates: Mondays starting April 7th (excluding Victoria Day – May 19th)\nTime: 7:15pm – 8:15pm\nLocation: 1670 Bayview ave.\, Suite 502 \nCost\nIn person TCTSY 8 Week Program – $280 for the whole program ($35 /\nsession) – Payment is collected upon registration as a credit\, with\nthat credit being applied each week to the session. Individual session\nreceipts will be provided every week for insurance or tax purposes. \nInsurance Coverage\nThe services of our therapist\, Nicole D’Souza\, MSW RSW\, TCTSY-F\n(Registered Social Work) may be covered by your extended health\nbenefits as they may be claimed under social work services\, though\nthey are not covered by OHIP. To find out if you are covered\, you\nwould need to know if you have coverage for a Registered Social Worker\nunder your insurance plan. At this time unfortunately we do not file\ninsurance claims on behalf of clients\, so upon receipt of payment you\nwill receive a receipt which can be used to seek reimbursement from\nyour insurance provider (if applicable). \nCancellation Policy\nCancellation refunds are available at 50% of the registration fee if\nyou cancel your participation in the entire group program a week prior\nto the first session. There is no refund available for individual\nmissed weekly sessions. In the event that the group is canceled on our\npart\, clients who have made payment will receive a refund for the\ntotal amount of the program.
URL:https://bayviewleasidebia.com/event/trauma-centre-trauma-sensitive-yoga-tctsy-group/2025-12-29/
LOCATION:The Growth and Wellness Therapy Centre\, 1670 Bayview Ave Suite 502\, Toronto\, Ontario\, M4G 3C2\, Canada
ATTACH;FMTTYPE=image/png:https://bayviewleasidebia.com/wp-content/uploads/2025/03/Angelyn-_____________________________-Massage-Therapist-6.png
ORGANIZER;CN="The Growth and Wellness Therapy Centre":MAILTO:info@growthwellnesstherapy.com
END:VEVENT
END:VCALENDAR